BEGIN:VCALENDAR
VERSION:2.0
PRODID:-//Heritage Regina - ECPv6.15.20//NONSGML v1.0//EN
CALSCALE:GREGORIAN
METHOD:PUBLISH
X-ORIGINAL-URL:https://heritageregina.ca
X-WR-CALDESC:Events for Heritage Regina
REFRESH-INTERVAL;VALUE=DURATION:PT1H
X-Robots-Tag:noindex
X-PUBLISHED-TTL:PT1H
BEGIN:VTIMEZONE
TZID:America/Chicago
BEGIN:DAYLIGHT
TZOFFSETFROM:-0600
TZOFFSETTO:-0500
TZNAME:CDT
DTSTART:20190310T080000
END:DAYLIGHT
BEGIN:STANDARD
TZOFFSETFROM:-0500
TZOFFSETTO:-0600
TZNAME:CST
DTSTART:20191103T070000
END:STANDARD
BEGIN:DAYLIGHT
TZOFFSETFROM:-0600
TZOFFSETTO:-0500
TZNAME:CDT
DTSTART:20200308T080000
END:DAYLIGHT
BEGIN:STANDARD
TZOFFSETFROM:-0500
TZOFFSETTO:-0600
TZNAME:CST
DTSTART:20201101T070000
END:STANDARD
BEGIN:DAYLIGHT
TZOFFSETFROM:-0600
TZOFFSETTO:-0500
TZNAME:CDT
DTSTART:20210314T080000
END:DAYLIGHT
BEGIN:STANDARD
TZOFFSETFROM:-0500
TZOFFSETTO:-0600
TZNAME:CST
DTSTART:20211107T070000
END:STANDARD
END:VTIMEZONE
BEGIN:VEVENT
DTSTART;TZID=America/Chicago:20200201T110000
DTEND;TZID=America/Chicago:20200201T170000
DTSTAMP:20260421T200121
CREATED:20200120T220423Z
LAST-MODIFIED:20200120T220725Z
UID:3378-1580554800-1580576400@heritageregina.ca
SUMMARY:100 Years of RCMP
DESCRIPTION:Come join us on February 1st to celebrate the 100th year anniversary of the RCMP. It was February 1st\, 1920 that the RNWMP and the Dominion Police combined to become the RCMP. To celebrate\, we would like to invite you to come explore the history of the RCMP with activities\, games\, crafts\, movies\, special tours\, a few surprises and of course cake! The first 100 people will have discounted admission and Family admission will be $19.20 for the day. Hosted by the RCMP Heritage Centre.
URL:https://heritageregina.ca/event/100-years-of-rcmp/
LOCATION:RCMP Heritage Centre\, 5907 Dewdney Avenue\, Regina\, Saskatchewan\, S4T 0P4\, Canada
CATEGORIES:Events
END:VEVENT
END:VCALENDAR