BEGIN:VCALENDAR
VERSION:2.0
PRODID:-//Heritage Regina - ECPv6.15.20//NONSGML v1.0//EN
CALSCALE:GREGORIAN
METHOD:PUBLISH
X-ORIGINAL-URL:https://heritageregina.ca
X-WR-CALDESC:Events for Heritage Regina
REFRESH-INTERVAL;VALUE=DURATION:PT1H
X-Robots-Tag:noindex
X-PUBLISHED-TTL:PT1H
BEGIN:VTIMEZONE
TZID:America/Chicago
BEGIN:DAYLIGHT
TZOFFSETFROM:-0600
TZOFFSETTO:-0500
TZNAME:CDT
DTSTART:20160313T080000
END:DAYLIGHT
BEGIN:STANDARD
TZOFFSETFROM:-0500
TZOFFSETTO:-0600
TZNAME:CST
DTSTART:20161106T070000
END:STANDARD
BEGIN:DAYLIGHT
TZOFFSETFROM:-0600
TZOFFSETTO:-0500
TZNAME:CDT
DTSTART:20170312T080000
END:DAYLIGHT
BEGIN:STANDARD
TZOFFSETFROM:-0500
TZOFFSETTO:-0600
TZNAME:CST
DTSTART:20171105T070000
END:STANDARD
BEGIN:DAYLIGHT
TZOFFSETFROM:-0600
TZOFFSETTO:-0500
TZNAME:CDT
DTSTART:20180311T080000
END:DAYLIGHT
BEGIN:STANDARD
TZOFFSETFROM:-0500
TZOFFSETTO:-0600
TZNAME:CST
DTSTART:20181104T070000
END:STANDARD
END:VTIMEZONE
BEGIN:VEVENT
DTSTART;TZID=America/Chicago:20170411T190000
DTEND;TZID=America/Chicago:20170411T210000
DTSTAMP:20260424T145449
CREATED:20170312T174607Z
LAST-MODIFIED:20170406T235656Z
UID:1477-1491937200-1491944400@heritageregina.ca
SUMMARY:Heritage Regina Annual General Meeting
DESCRIPTION:Are you interested in getting involved in Heritage Regina?\nWe want to welcome all current members and potential new members to attend Heritage Regina’s 41st Annual General Meeting on April 11th at Knox Metropolitan United Church\, 2340 Victoria Ave. Regina at 7:00pm. Refreshments will be provided.\n\nPlease note that only current 2017-18 members will be eligible to vote at the AGM. A copy of the membership renewal form is attached. We are excited to announce that once again we have partnered with Heritage Saskatchewan and the National Trust for Canada to provide you a\nreciprocal membership for just $10.00. Details are on the attached form.\n\nPlease feel free to bring your membership form along with payment to the AGM or mail prior to the event.\n\nAgenda\nPresidents Report 2017 \n2016 Financial Statements\n2016 AGM Minutes
URL:https://heritageregina.ca/event/heritage-regina-annual-general-meeting/
LOCATION:Knox Metropolitan United Church\, 2340 Victoria Ave\, Regina\, Saskatchewan\, Canada
CATEGORIES:Events,Members
ATTACH;FMTTYPE=image/jpeg:https://heritageregina.ca/wp-content/uploads/2017/03/6000_1038_54176_cora-b-1015.jpgplu_p18ciunbsr1fhb18o73ue8ve195d1.jpg
END:VEVENT
END:VCALENDAR