BEGIN:VCALENDAR
VERSION:2.0
PRODID:-//Heritage Regina - ECPv6.15.20//NONSGML v1.0//EN
CALSCALE:GREGORIAN
METHOD:PUBLISH
X-WR-CALNAME:Heritage Regina
X-ORIGINAL-URL:https://heritageregina.ca
X-WR-CALDESC:Events for Heritage Regina
REFRESH-INTERVAL;VALUE=DURATION:PT1H
X-Robots-Tag:noindex
X-PUBLISHED-TTL:PT1H
BEGIN:VTIMEZONE
TZID:America/Chicago
BEGIN:DAYLIGHT
TZOFFSETFROM:-0600
TZOFFSETTO:-0500
TZNAME:CDT
DTSTART:20180311T080000
END:DAYLIGHT
BEGIN:STANDARD
TZOFFSETFROM:-0500
TZOFFSETTO:-0600
TZNAME:CST
DTSTART:20181104T070000
END:STANDARD
BEGIN:DAYLIGHT
TZOFFSETFROM:-0600
TZOFFSETTO:-0500
TZNAME:CDT
DTSTART:20190310T080000
END:DAYLIGHT
BEGIN:STANDARD
TZOFFSETFROM:-0500
TZOFFSETTO:-0600
TZNAME:CST
DTSTART:20191103T070000
END:STANDARD
BEGIN:DAYLIGHT
TZOFFSETFROM:-0600
TZOFFSETTO:-0500
TZNAME:CDT
DTSTART:20200308T080000
END:DAYLIGHT
BEGIN:STANDARD
TZOFFSETFROM:-0500
TZOFFSETTO:-0600
TZNAME:CST
DTSTART:20201101T070000
END:STANDARD
END:VTIMEZONE
BEGIN:VEVENT
DTSTART;TZID=America/Chicago:20190828T180000
DTEND;TZID=America/Chicago:20190828T200000
DTSTAMP:20260420T192115
CREATED:20190406T163456Z
LAST-MODIFIED:20190406T163456Z
UID:2823-1567015200-1567022400@heritageregina.ca
SUMMARY:Heritage Regina Walking Tour – Old Lakeview Neighbourhood
DESCRIPTION:Meet guide Jackie Schmidt at 6 p.m. on the steps of the Legislative Building and learn about the early development of this historic neighbourhood. \nAll of our walking tours last approximately 2 hours and are free\, with a suggested donation of $10.
URL:https://heritageregina.ca/event/heritage-regina-walking-tour-old-lakeview-neighbourhood/
LOCATION:Saskatchewan Legislative Building\, 2405 Legislative Dr\, \, Regina\, Saskatchewan\, Canada
CATEGORIES:2019 Walking Tours,Events
END:VEVENT
END:VCALENDAR