BEGIN:VCALENDAR
VERSION:2.0
PRODID:-//Heritage Regina - ECPv6.15.20//NONSGML v1.0//EN
CALSCALE:GREGORIAN
METHOD:PUBLISH
X-ORIGINAL-URL:https://heritageregina.ca
X-WR-CALDESC:Events for Heritage Regina
REFRESH-INTERVAL;VALUE=DURATION:PT1H
X-Robots-Tag:noindex
X-PUBLISHED-TTL:PT1H
BEGIN:VTIMEZONE
TZID:America/Chicago
BEGIN:DAYLIGHT
TZOFFSETFROM:-0600
TZOFFSETTO:-0500
TZNAME:CDT
DTSTART:20180311T080000
END:DAYLIGHT
BEGIN:STANDARD
TZOFFSETFROM:-0500
TZOFFSETTO:-0600
TZNAME:CST
DTSTART:20181104T070000
END:STANDARD
BEGIN:DAYLIGHT
TZOFFSETFROM:-0600
TZOFFSETTO:-0500
TZNAME:CDT
DTSTART:20190310T080000
END:DAYLIGHT
BEGIN:STANDARD
TZOFFSETFROM:-0500
TZOFFSETTO:-0600
TZNAME:CST
DTSTART:20191103T070000
END:STANDARD
BEGIN:DAYLIGHT
TZOFFSETFROM:-0600
TZOFFSETTO:-0500
TZNAME:CDT
DTSTART:20200308T080000
END:DAYLIGHT
BEGIN:STANDARD
TZOFFSETFROM:-0500
TZOFFSETTO:-0600
TZNAME:CST
DTSTART:20201101T070000
END:STANDARD
END:VTIMEZONE
BEGIN:VEVENT
DTSTART;TZID=America/Chicago:20190824T180000
DTEND;TZID=America/Chicago:20190824T200000
DTSTAMP:20260420T192330
CREATED:20190406T163340Z
LAST-MODIFIED:20190422T142405Z
UID:2821-1566669600-1566676800@heritageregina.ca
SUMMARY:Heritage Regina Walking Tour – Lost Buildings in Regina
DESCRIPTION:Meet guide Melissa Clow at 6 p.m. outside the north entrance of Cornwall Centre (on Saskatchewan Drive) for a walk that will explore Regina’s earliest years and reveal the vanished roots of our city. Note: The tour will be augmented by historical photographs shared via an online slideshow. This can be accessed through your mobile/hand-held device during the tour. \nAll of our walking tours last approximately 2 hours and are free\, with a suggested donation of $10.
URL:https://heritageregina.ca/event/heritage-regina-walking-tour-lost-buildings-in-regina/
LOCATION:Cornwall Centre\, 2102 11th Avenue\, Regina\, SK\, Canada
CATEGORIES:2019 Walking Tours,Events
END:VEVENT
END:VCALENDAR