BEGIN:VCALENDAR
VERSION:2.0
PRODID:-//Heritage Regina - ECPv6.15.20//NONSGML v1.0//EN
CALSCALE:GREGORIAN
METHOD:PUBLISH
X-ORIGINAL-URL:https://heritageregina.ca
X-WR-CALDESC:Events for Heritage Regina
REFRESH-INTERVAL;VALUE=DURATION:PT1H
X-Robots-Tag:noindex
X-PUBLISHED-TTL:PT1H
BEGIN:VTIMEZONE
TZID:America/Chicago
BEGIN:DAYLIGHT
TZOFFSETFROM:-0600
TZOFFSETTO:-0500
TZNAME:CDT
DTSTART:20180311T080000
END:DAYLIGHT
BEGIN:STANDARD
TZOFFSETFROM:-0500
TZOFFSETTO:-0600
TZNAME:CST
DTSTART:20181104T070000
END:STANDARD
BEGIN:DAYLIGHT
TZOFFSETFROM:-0600
TZOFFSETTO:-0500
TZNAME:CDT
DTSTART:20190310T080000
END:DAYLIGHT
BEGIN:STANDARD
TZOFFSETFROM:-0500
TZOFFSETTO:-0600
TZNAME:CST
DTSTART:20191103T070000
END:STANDARD
BEGIN:DAYLIGHT
TZOFFSETFROM:-0600
TZOFFSETTO:-0500
TZNAME:CDT
DTSTART:20200308T080000
END:DAYLIGHT
BEGIN:STANDARD
TZOFFSETFROM:-0500
TZOFFSETTO:-0600
TZNAME:CST
DTSTART:20201101T070000
END:STANDARD
END:VTIMEZONE
BEGIN:VEVENT
DTSTART;TZID=America/Chicago:20190817T180000
DTEND;TZID=America/Chicago:20190817T200000
DTSTAMP:20260420T192220
CREATED:20190406T163230Z
LAST-MODIFIED:20190422T142318Z
UID:2819-1566064800-1566072000@heritageregina.ca
SUMMARY:Heritage Regina Walking Tour – Secrets of Government House
DESCRIPTION:Meet Manager of Government House Monique Goffinet Miller at 6 p.m. at Government House\, 4607 Dewdney Avenue. Hear behind-the-scenes stories of Government House\, its secret gardens and the ongoing historical impact of this National Historic Site. There is ample parking at Government House\, and the Vice Regal Coffee Bar will be open before the tour starts. \nAll of our walking tours last approximately 2 hours and are free\, with a suggested donation of $10.
URL:https://heritageregina.ca/event/heritage-regina-walking-tour-secrets-of-government-house/
LOCATION:Government House\, 4607 Dewdney Ave\, Regina\, Saskatchewan\, Canada
CATEGORIES:2019 Walking Tours,Events
END:VEVENT
END:VCALENDAR