BEGIN:VCALENDAR
VERSION:2.0
PRODID:-//Heritage Regina - ECPv6.15.20//NONSGML v1.0//EN
CALSCALE:GREGORIAN
METHOD:PUBLISH
X-WR-CALNAME:Heritage Regina
X-ORIGINAL-URL:https://heritageregina.ca
X-WR-CALDESC:Events for Heritage Regina
REFRESH-INTERVAL;VALUE=DURATION:PT1H
X-Robots-Tag:noindex
X-PUBLISHED-TTL:PT1H
BEGIN:VTIMEZONE
TZID:America/Chicago
BEGIN:DAYLIGHT
TZOFFSETFROM:-0600
TZOFFSETTO:-0500
TZNAME:CDT
DTSTART:20180311T080000
END:DAYLIGHT
BEGIN:STANDARD
TZOFFSETFROM:-0500
TZOFFSETTO:-0600
TZNAME:CST
DTSTART:20181104T070000
END:STANDARD
BEGIN:DAYLIGHT
TZOFFSETFROM:-0600
TZOFFSETTO:-0500
TZNAME:CDT
DTSTART:20190310T080000
END:DAYLIGHT
BEGIN:STANDARD
TZOFFSETFROM:-0500
TZOFFSETTO:-0600
TZNAME:CST
DTSTART:20191103T070000
END:STANDARD
BEGIN:DAYLIGHT
TZOFFSETFROM:-0600
TZOFFSETTO:-0500
TZNAME:CDT
DTSTART:20200308T080000
END:DAYLIGHT
BEGIN:STANDARD
TZOFFSETFROM:-0500
TZOFFSETTO:-0600
TZNAME:CST
DTSTART:20201101T070000
END:STANDARD
END:VTIMEZONE
BEGIN:VEVENT
DTSTART;TZID=America/Chicago:20190810T180000
DTEND;TZID=America/Chicago:20190810T200000
DTSTAMP:20260420T192113
CREATED:20190406T163056Z
LAST-MODIFIED:20190813T194852Z
UID:2817-1565460000-1565467200@heritageregina.ca
SUMMARY:Heritage Regina Walking Tour – Regina’s Downtown Car Dealerships
DESCRIPTION:Meet guide Dale Edward Johnson at 6 p.m. in front of the Viterra Building at Albert Street and Victoria Avenue. Learn about the early car dealerships in downtown Regina and how residents became hooked on their automobiles. \nAll of our walking tours last approximately 2 hours and are free\, with a suggested donation of $10. \n  \n* Listen to Dale Edward Johnson’s interview on the CBC radio program “Saskatchewan Weekend” with host Shauna Powers. The interview aired on August 10\, 2019 and may be heard at https://www.cbc.ca/listen/live-radio/1-205-saskatchewan-weekend/clip/15731101-an-historic-walking-tour-of-downtown-regina-car-dealerships.  (Note: At the link\, if a “Welcome” pop-up menu appears\, scroll to the bottom of the menu and click Continue. This will take you to the audio recording of the interview.) \nA companion article to the interview (with photos) may be found at https://www.cbc.ca/news/canada/saskatoon/taking-a-walk-down-regina-s-car-dealership-lane-1.5243038.
URL:https://heritageregina.ca/event/heritage-regina-walking-tour-reginas-downtown-car-dealerships/
LOCATION:Viterra\, 2625 Victoria Avenue\, Regina\, SK\, Canada
CATEGORIES:2019 Walking Tours,Events
END:VEVENT
END:VCALENDAR