BEGIN:VCALENDAR
VERSION:2.0
PRODID:-//Heritage Regina - ECPv6.15.20//NONSGML v1.0//EN
CALSCALE:GREGORIAN
METHOD:PUBLISH
X-ORIGINAL-URL:https://heritageregina.ca
X-WR-CALDESC:Events for Heritage Regina
REFRESH-INTERVAL;VALUE=DURATION:PT1H
X-Robots-Tag:noindex
X-PUBLISHED-TTL:PT1H
BEGIN:VTIMEZONE
TZID:America/Chicago
BEGIN:DAYLIGHT
TZOFFSETFROM:-0600
TZOFFSETTO:-0500
TZNAME:CDT
DTSTART:20180311T080000
END:DAYLIGHT
BEGIN:STANDARD
TZOFFSETFROM:-0500
TZOFFSETTO:-0600
TZNAME:CST
DTSTART:20181104T070000
END:STANDARD
BEGIN:DAYLIGHT
TZOFFSETFROM:-0600
TZOFFSETTO:-0500
TZNAME:CDT
DTSTART:20190310T080000
END:DAYLIGHT
BEGIN:STANDARD
TZOFFSETFROM:-0500
TZOFFSETTO:-0600
TZNAME:CST
DTSTART:20191103T070000
END:STANDARD
BEGIN:DAYLIGHT
TZOFFSETFROM:-0600
TZOFFSETTO:-0500
TZNAME:CDT
DTSTART:20200308T080000
END:DAYLIGHT
BEGIN:STANDARD
TZOFFSETFROM:-0500
TZOFFSETTO:-0600
TZNAME:CST
DTSTART:20201101T070000
END:STANDARD
END:VTIMEZONE
BEGIN:VEVENT
DTSTART;TZID=America/Chicago:20190803T180000
DTEND;TZID=America/Chicago:20190803T200000
DTSTAMP:20260420T192809
CREATED:20190406T162939Z
LAST-MODIFIED:20190416T153336Z
UID:2815-1564855200-1564862400@heritageregina.ca
SUMMARY:Heritage Regina Walking Tour – Historic College Avenue Campus
DESCRIPTION:Meet guide Lauren Liebe at 6 p.m. at the University of Regina’s old campus\, 2155 College Avenue\, and learn about the beginnings of the college and its historical renovation. \n\nAll of our walking tours last approximately 2 hours and are free\, with a suggested donation of $10.
URL:https://heritageregina.ca/event/heritage-regina-walking-tour-historic-college-avenue-campus/
LOCATION:College Ave Campus\, 2155 College Ave\, Regina\, Saskatchewan
CATEGORIES:2019 Walking Tours,Events
END:VEVENT
END:VCALENDAR