BEGIN:VCALENDAR
VERSION:2.0
PRODID:-//Heritage Regina - ECPv6.15.20//NONSGML v1.0//EN
CALSCALE:GREGORIAN
METHOD:PUBLISH
X-ORIGINAL-URL:https://heritageregina.ca
X-WR-CALDESC:Events for Heritage Regina
REFRESH-INTERVAL;VALUE=DURATION:PT1H
X-Robots-Tag:noindex
X-PUBLISHED-TTL:PT1H
BEGIN:VTIMEZONE
TZID:America/Chicago
BEGIN:DAYLIGHT
TZOFFSETFROM:-0600
TZOFFSETTO:-0500
TZNAME:CDT
DTSTART:20180311T080000
END:DAYLIGHT
BEGIN:STANDARD
TZOFFSETFROM:-0500
TZOFFSETTO:-0600
TZNAME:CST
DTSTART:20181104T070000
END:STANDARD
BEGIN:DAYLIGHT
TZOFFSETFROM:-0600
TZOFFSETTO:-0500
TZNAME:CDT
DTSTART:20190310T080000
END:DAYLIGHT
BEGIN:STANDARD
TZOFFSETFROM:-0500
TZOFFSETTO:-0600
TZNAME:CST
DTSTART:20191103T070000
END:STANDARD
BEGIN:DAYLIGHT
TZOFFSETFROM:-0600
TZOFFSETTO:-0500
TZNAME:CDT
DTSTART:20200308T080000
END:DAYLIGHT
BEGIN:STANDARD
TZOFFSETFROM:-0500
TZOFFSETTO:-0600
TZNAME:CST
DTSTART:20201101T070000
END:STANDARD
END:VTIMEZONE
BEGIN:VEVENT
DTSTART;TZID=America/Chicago:20190706T180000
DTEND;TZID=America/Chicago:20190706T200000
DTSTAMP:20260420T192628
CREATED:20190406T153821Z
LAST-MODIFIED:20190406T162117Z
UID:2804-1562436000-1562443200@heritageregina.ca
SUMMARY:Heritage Regina Walking Tour – The 1912 Cyclone and Its Impact on “The Wholesale District”
DESCRIPTION:Meet guide Robin Adeney at 6 p.m. outside Brewed Awakening\, 2300 Dewdney Avenue\, and learn about the storm of the century and its impact on this former neighbourhood. \nAll of our walking tours last approximately 2 hours and are free\, with a suggested donation of $10.
URL:https://heritageregina.ca/event/heritage-regina-walking-tour-the-1912-cyclone-and-its-impact-on-the-wholesale-district/
LOCATION:Brewed Awakening\, 2300 Dewdney Ave\, Regina\, Saskatchewan\, S4R 1G8\, Canada
CATEGORIES:2019 Walking Tours,Events
END:VEVENT
BEGIN:VEVENT
DTSTART;TZID=America/Chicago:20190710T180000
DTEND;TZID=America/Chicago:20190710T200000
DTSTAMP:20260420T192628
CREATED:20190406T162326Z
LAST-MODIFIED:20190406T162326Z
UID:2809-1562781600-1562788800@heritageregina.ca
SUMMARY:Heritage Regina Walking Tour – Wascana Lake: Sporting and Political History
DESCRIPTION:Meet guide Will Chabun at 6 p.m. in the parking lot of Wascana Marina (off Broad Street) to walk around the lake and hear about some of its intriguing tales. \nAll of our walking tours last approximately 2 hours and are free\, with a suggested donation of $10.
URL:https://heritageregina.ca/event/heritage-regina-walking-tour-wascana-lake-sporting-and-political-history/
LOCATION:Wascana Marina\, 3000 Wascana Dr\, Regina\, Saskatchewan\, S4V 3E6\, Canada
CATEGORIES:2019 Walking Tours,Events
END:VEVENT
BEGIN:VEVENT
DTSTART;TZID=America/Chicago:20190713T180000
DTEND;TZID=America/Chicago:20190713T200000
DTSTAMP:20260420T192628
CREATED:20190406T162528Z
LAST-MODIFIED:20190406T165953Z
UID:2811-1563040800-1563048000@heritageregina.ca
SUMMARY:Heritage Regina Walking Tour – Wascana Lake: Sporting and Political History
DESCRIPTION:Meet guide Will Chabun at 6 p.m. in the parking lot of Wascana Marina (off Broad Street) to walk around the lake and hear about some of its intriguing tales. \nAll of our walking tours last approximately 2 hours and are free\, with a suggested donation of $10.
URL:https://heritageregina.ca/event/heritage-regina-walking-tour-wascana-lake-sporting-and-political-history-2/
LOCATION:Wascana Marina\, 3000 Wascana Dr\, Regina\, Saskatchewan\, S4V 3E6\, Canada
CATEGORIES:2019 Walking Tours,Events
END:VEVENT
BEGIN:VEVENT
DTSTART;TZID=America/Chicago:20190720T180000
DTEND;TZID=America/Chicago:20190720T200000
DTSTAMP:20260420T192628
CREATED:20190406T162708Z
LAST-MODIFIED:20190406T165833Z
UID:2813-1563645600-1563652800@heritageregina.ca
SUMMARY:Heritage Regina Walking Tour – Cathedrals and Coffee Houses
DESCRIPTION:Meet guide Susan Birley at 6 p.m. at the northwest corner of the Safeway parking lot on 13th Avenue for a walk that explores historic churches and other buildings in this early 20th century neighbourhood. \nAll of our walking tours last approximately 2 hours and are free\, with a suggested donation of $10.
URL:https://heritageregina.ca/event/heritage-regina-walking-tour-cathedrals-and-coffee-houses/
LOCATION:Safeway Cathedral\, 2931 13th Avenue\, Regina\, SK\, Canada
CATEGORIES:2019 Walking Tours,Events
END:VEVENT
BEGIN:VEVENT
DTSTART;TZID=America/Chicago:20190727T180000
DTEND;TZID=America/Chicago:20190727T200000
DTSTAMP:20260420T192628
CREATED:20190422T144957Z
LAST-MODIFIED:20190422T165542Z
UID:2855-1564250400-1564257600@heritageregina.ca
SUMMARY:Heritage Regina Walking Tour - Kids on Tour
DESCRIPTION:Meet guide Robin Adeney at 6 p.m. at the Victoria Park Cenotaph and discover the stories of the terrible cyclone of 1912. This tour is designed for kids aged 6 – 12 years accompanied by their parent or guardian (over 18 years of age). \nAll of our walking tours last approximately 2 hours and are free\, with a suggested donation of $10.
URL:https://heritageregina.ca/event/heritage-regina-walking-tour-kids-on-tour/
LOCATION:Victoria Park\, Victoria Park\, Regina\, SK\, Canada
CATEGORIES:2019 Walking Tours,Events
END:VEVENT
END:VCALENDAR